BEGIN:VCALENDAR
VERSION:2.0
PRODID:icalendar-ruby
CALSCALE:GREGORIAN
METHOD:PUBLISH
BEGIN:VEVENT
DTSTAMP:20260422T014928Z
UID:6-537948@newbeginnings160.tithelysetup5.com
DTSTART:20261004T143000Z
DTEND:20261004T153000Z
CLASS:PUBLIC
CREATED:20260421T195421
DESCRIPTION:We invite you to come and celebrate with us on Sunday mornings.
  This large\, weekly gathering is designed to both strengthen and encourag
 e you in your faith journey. There is time for singing\, teaching\, and co
 mmunity buiding in every service. NB is a casual church\, so please come a
 s you are. We know you'll feel right at home here!
LAST-MODIFIED:20260421T195421
LOCATION:1154 West Fleck Road\, Six Lakes\, MI 48886
SUMMARY:Sunday Mornings @NB
URL;VALUE=URI:https://nbsixlakes.com/events/sunday-mornings-nb/2026-10-04
END:VEVENT
END:VCALENDAR
